BEGIN:VCALENDAR
VERSION:2.0
PRODID:-//Leichtathletik in Oldenburg - ECPv5.0.2.1//NONSGML v1.0//EN
CALSCALE:GREGORIAN
METHOD:PUBLISH
X-WR-CALNAME:Leichtathletik in Oldenburg
X-ORIGINAL-URL:https://www.leichtathletik-in-oldenburg.de
X-WR-CALDESC:Veranstaltungen im Leichtathletik in Oldenburg
BEGIN:VTIMEZONE
TZID:Europe/Helsinki
BEGIN:DAYLIGHT
TZOFFSETFROM:+0200
TZOFFSETTO:+0300
TZNAME:EEST
DTSTART:20260329T010000
END:DAYLIGHT
BEGIN:STANDARD
TZOFFSETFROM:+0300
TZOFFSETTO:+0200
TZNAME:EET
DTSTART:20261025T010000
END:STANDARD
END:VTIMEZONE
BEGIN:VEVENT
DTSTART;TZID=Europe/Helsinki:20260627T120000
DTEND;TZID=Europe/Helsinki:20260627T160000
DTSTAMP:20260419T125950
CREATED:20260302T065416Z
LAST-MODIFIED:20260302T065754Z
UID:2880-1782561600-1782576000@www.leichtathletik-in-oldenburg.de
SUMMARY:Mehrkampfsportfest des BTB Oldenburg
DESCRIPTION:Am 27. Juni wird das Mehrkampfsportfest des BTB Oldenburg für die Altersklasse U14 und U12 ausgetragen. Außerdem sind Staffelläufe ausgeschrieben.. \n
URL:https://www.leichtathletik-in-oldenburg.de/event/mehrkampfsportfest-des-btb-oldenburg-3/
CATEGORIES:Stadionsportfeste
ATTACH;FMTTYPE=image/jpeg:https://www.leichtathletik-in-oldenburg.de/wp-content/uploads/2026/03/2025_BTB_Staffel.jpg
END:VEVENT
END:VCALENDAR